BEGIN:VCALENDAR
VERSION:2.0
PRODID:-//hacksw/handcal//NONSGML v1.0//EN
BEGIN:VEVENT
SUMMARY:Challenge Omnisports
UID:1c93ae9e-98d6-41f5-b871-d15f125dbbac
DTSTART:20260308T090000Z
DTEND:20260308T153000Z
LOCATION:Localisation Stade de ma ville 72000 LE MANS
CATEGORIES:Sportif
STATUS:
DESCRIPTION:<p>Le challenge Omnisports organise par le club debutera
 sur le grand stade de la ville.<br>Les prix seront remis en
 soiree.</p>
URL;VALUE=URI:https://arnpv.sportsregions.fr/evenements/2026/03/08/challenge-omnisports-2424889
END:VEVENT
END:VCALENDAR
